BEGIN:VCALENDAR
VERSION:2.0
PRODID:-//ChamberMaster//Event Calendar 2.0//EN
METHOD:PUBLISH
X-PUBLISHED-TTL:P3D
REFRESH-INTERVAL:P3D
CALSCALE:GREGORIAN
BEGIN:VEVENT
DTSTART:20140604T140000Z
DTEND:20140604T160000Z
X-MICROSOFT-CDO-ALLDAYEVENT:FALSE
SUMMARY:Make a Stepping Stone
DESCRIPTION:Wingard's Nursery: Make a Stepping Stone\; This is a great project for kids\, teens\, adults. Make a stepping stone for your garden or as a gift for Mom or Dad\, Grandma or Grandpa. Hint\, Hint: Father's Day is around the corner. An adult must attend workshop along with young children to assist in making their stone. If you want to make more than one stepping stone\, you should register for two people. If two people are attending to make one stepping stone\, you should register for only one person.
X-ALT-DESC;FMTTYPE=text/html:Wingard&#39\;s Nursery: Make a Stepping Stone\; This is a great project for kids\, teens\, adults. Make a stepping stone for your garden or as a gift for Mom or Dad\, Grandma or Grandpa. Hint\, Hint: Father&#39\;s Day is around the corner. An adult must attend workshop along with young children to assist in making their stone. If you want to make more than one stepping stone\, you should register for two people. If two people are attending to make one stepping stone\, you should register for only one person.&nbsp\;
LOCATION:Wingard's Nursery: (803) 359-9091- 1403 North Lake Drive (Hwy. 6)\, Lexington\, SC 29072\; Between Lexington and the Lake Murray Dam.
UID:e.795.3734
SEQUENCE:3
DTSTAMP:20260422T174843Z
URL:http://lexingtonsc.chambermaster.com/events/details/make-a-stepping-stone-06-04-2014-3734
END:VEVENT

END:VCALENDAR
