BEGIN:VCALENDAR
VERSION:2.0
PRODID:-//ChamberMaster//Event Calendar 2.0//EN
METHOD:PUBLISH
X-PUBLISHED-TTL:P3D
REFRESH-INTERVAL:P3D
CALSCALE:GREGORIAN
BEGIN:VEVENT
DTSTART:20140531T140000Z
DTEND:20140531T150000Z
X-MICROSOFT-CDO-ALLDAYEVENT:FALSE
SUMMARY:Perennials Workshop
DESCRIPTION:Wingard's Nursery\; Perennials Workshop. Is it an annual or perennial? When you leave this workshop\, you'll be certain to understand that perennials return each Spring and that annuals do not return! In addition\, you'll learn a lot more about the many varieties and colors that are available\, and tour a garden full of them.
X-ALT-DESC;FMTTYPE=text/html:Wingard&#39\;s Nursery\; Perennials Workshop. Is it an annual or perennial? When you leave this workshop\, you&#39\;ll be certain to understand that perennials return each Spring and that annuals do not return! In addition\, you&#39\;ll learn a lot more about the many varieties and colors that are available\, and tour a garden full of them.&nbsp\;
LOCATION:Wingard's Nursery\, 1403 N.Lake Drive (Hwy.6)\, Lexington\, SC 29072 Between Lexington and the Lake Murray Dam
UID:e.795.3732
SEQUENCE:3
DTSTAMP:20260422T234914Z
URL:http://lexingtonsc.chambermaster.com/events/details/perennials-workshop-05-31-2014-3732
END:VEVENT

END:VCALENDAR
